BEGIN:VCALENDAR
VERSION:2.0
PRODID:-//Korunan Muhasebe ve Müşavirlik Bürosu - ECPv6.15.13//NONSGML v1.0//EN
CALSCALE:GREGORIAN
METHOD:PUBLISH
X-WR-CALNAME:Korunan Muhasebe ve Müşavirlik Bürosu
X-ORIGINAL-URL:https://korunanmuhasebe.com
X-WR-CALDESC:Korunan Muhasebe ve Müşavirlik Bürosu için etkinlikler
REFRESH-INTERVAL;VALUE=DURATION:PT1H
X-Robots-Tag:noindex
X-PUBLISHED-TTL:PT1H
BEGIN:VTIMEZONE
TZID:Europe/Istanbul
BEGIN:STANDARD
TZOFFSETFROM:+0300
TZOFFSETTO:+0300
TZNAME:+03
DTSTART:20170101T000000
END:STANDARD
END:VTIMEZONE
BEGIN:VEVENT
DTSTART;TZID=Europe/Istanbul:20181210T140000
DTEND;TZID=Europe/Istanbul:20181210T160000
DTSTAMP:20260426T001351
CREATED:20181025T173918Z
LAST-MODIFIED:20181120T131907Z
UID:16438-1544450400-1544457600@korunanmuhasebe.com
SUMMARY:Şirketler Bilgilendirme Toplantısı-1
DESCRIPTION:2019 yılında Bilanço defterine tabi mükelleflerin kayıtlarının elektronik ortamda tutulması\, söz konusu mükelleflerin defterlerinin bu kayıtlardan hareketle elektronik ortamda oluşturulması ve saklanması\, vergi beyannamesi\, bildirim ve dilekçelerin elektronik ortamda verilebilmesi ile elektronik ortamda belge düzenlenebilmesi amacıyla kullanılan e-Uygulamalar eko sisteminin tanıtılmasına\, Vergi Usul Kanunu\, Sosyal Güvenlik Kanunu\, İş Sağlığı ve Güvenliği ile sair kanunlardaki gelişmeler ve dikkat edilecek önemli hususların detaylandırılmasına yönelik olarak düzenlenmektedir. \n  \nKimler Katılmalı: Bilanço usulüne tabi olan mükellefler ile ön muhasebe görevlileri \nSınırlamalar: Korunan Muhasebe & Müşavirlik Bürosu müşterilerine özel etkinliktir\, dış katılımcılara kapalıdır. Müşterilerin ilk katılımından sonraki tüm etkinliklere katılım ücretli olacaktır. \nBilgilendirme: Korunan Akademi ortaklığı ile gerçekleşecektir. İlerleyen tarihlerde ücretli olarak dış katılımcılara açık etkinlik akademi sayfasından duyurularak düzenlenecektir. \n  \nEle alınacak konular: \n\nE-Uygulamalar hakkında bilgilendirme\,\n\nSistem Kullanım amacı\,\nSistem Kayıt zamanı\,\nSistemde Belge düzenleri\,\nMuhafaza ve ibraz\,\nSorumluluk ve ceza\,\nDikkat edilecek önemli hususlar\n\n\nVergi Usul Kanunu değişiklikleri\nSosyal Güvenlik Kanunu\nİş Sağlığı ve Güvenliği Kanunu\nÖn Muhasebe sistemi ve dikkat edilecek önemli hususlar\n\n  \n 
URL:https://korunanmuhasebe.com/etkinlik/sirketler-bilgilendirme-toplantisi-1/
LOCATION:Korunan Muhasebe & Müşavirlik Bürosu\, Çemberlitaş\, Binbirdirek Mh. Dostluk Yurdu Sk. No:1 Yeşil Ap. Kat:2 D:6\, İstanbul\, Fatih\, 34122\, Türkiye
CATEGORIES:Bilanço
ATTACH;FMTTYPE=image/jpeg:https://korunanmuhasebe.com/wp-content/uploads/2018/04/e-defter-fatura-arsiv.jpg
ORGANIZER;CN="Korunan Muhasebe":MAILTO:info@korunanmuhasebe.com
END:VEVENT
END:VCALENDAR