BEGIN:VCALENDAR
VERSION:2.0
PRODID:-//Korunan Muhasebe ve Müşavirlik Bürosu - ECPv6.15.13//NONSGML v1.0//EN
CALSCALE:GREGORIAN
METHOD:PUBLISH
X-ORIGINAL-URL:https://korunanmuhasebe.com
X-WR-CALDESC:Korunan Muhasebe ve Müşavirlik Bürosu için etkinlikler
REFRESH-INTERVAL;VALUE=DURATION:PT1H
X-Robots-Tag:noindex
X-PUBLISHED-TTL:PT1H
BEGIN:VTIMEZONE
TZID:Europe/Istanbul
BEGIN:STANDARD
TZOFFSETFROM:+0300
TZOFFSETTO:+0300
TZNAME:+03
DTSTART:20240101T000000
END:STANDARD
END:VTIMEZONE
BEGIN:VEVENT
DTSTART;VALUE=DATE:20251117
DTEND;VALUE=DATE:20251118
DTSTAMP:20260421T134821
CREATED:20250902T202852Z
LAST-MODIFIED:20250902T202852Z
UID:18671-1763337600-1763423999@korunanmuhasebe.com
SUMMARY:2025/3 Geçici Vergisi Beyan ve Ödemesi
DESCRIPTION:
URL:https://korunanmuhasebe.com/etkinlik/2025-3-gecici-vergisi-beyan-ve-odemesi/
CATEGORIES:VERGİ
END:VEVENT
END:VCALENDAR