BEGIN:VCALENDAR
VERSION:2.0
PRODID:-//Korunan Muhasebe ve Müşavirlik Bürosu - ECPv6.15.13//NONSGML v1.0//EN
CALSCALE:GREGORIAN
METHOD:PUBLISH
X-ORIGINAL-URL:https://korunanmuhasebe.com
X-WR-CALDESC:Korunan Muhasebe ve Müşavirlik Bürosu için etkinlikler
REFRESH-INTERVAL;VALUE=DURATION:PT1H
X-Robots-Tag:noindex
X-PUBLISHED-TTL:PT1H
BEGIN:VTIMEZONE
TZID:Europe/Istanbul
BEGIN:STANDARD
TZOFFSETFROM:+0300
TZOFFSETTO:+0300
TZNAME:+03
DTSTART:20170101T000000
END:STANDARD
END:VTIMEZONE
BEGIN:VEVENT
DTSTART;TZID=Europe/Istanbul:20181204T140000
DTEND;TZID=Europe/Istanbul:20181204T160000
DTSTAMP:20260425T021620
CREATED:20181016T005552Z
LAST-MODIFIED:20181120T122239Z
UID:16410-1543932000-1543939200@korunanmuhasebe.com
SUMMARY:Serbest Meslek Defter Beyan Sistemi-2
DESCRIPTION:2019 yılında Serbest Meslek Kazancı defterine tabi mükelleflerin kayıtlarının elektronik ortamda tutulması\, söz konusu mükelleflerin defterlerinin bu kayıtlardan hareketle elektronik ortamda oluşturulması ve saklanması\, vergi beyannamesi\, bildirim ve dilekçelerin elektronik ortamda verilebilmesi ile elektronik ortamda belge düzenlenebilmesi amacıyla kullanılan Defter-Beyan Sisteminin tanıtılmasına ve dikkat edilecek önemli hususların detaylandırılmasına yönelik olarak düzenlenmektedir. \n  \nKimler Katılmalı: Serbest Meslek Defterine tabi olan mükellefler. \nSınırlamalar: Korunan Muhasebe & Müşavirlik Bürosu müşterilerine özel etkinliktir\, dış katılımcılara kapalıdır. Müşterilerin ilk katılımından sonraki tüm etkinliklere katılım ücretli olacaktır. \nBilgilendirme: Korunan Akademi ortaklığı ile gerçekleşecektir. İlerleyen tarihlerde ücretli olarak dış katılımcılara açık etkinlik akademi sayfasından duyurularak düzenlenecektir. \n  \nEle alınacak konular: \n\nE-Uygulamalar hakkında bilgilendirme\,\nSistem Kullanım amacı\,\nSistem Kayıt zamanı\,\nSistemde Belge düzenleri\,\nMuhafaza ve ibraz\,\nSorumluluk ve ceza\,\nDikkat edilecek önemli hususlar\n\n  \n  \nDefter Beyan konusu ile ilgili yazılarımıza buradan ulaşabilirsiniz. \n 
URL:https://korunanmuhasebe.com/etkinlik/serbest-meslek-defter-beyan-sistemi-2/
LOCATION:Korunan Muhasebe & Müşavirlik Bürosu\, Çemberlitaş\, Binbirdirek Mh. Dostluk Yurdu Sk. No:1 Yeşil Ap. Kat:2 D:6\, İstanbul\, Fatih\, 34122\, Türkiye
CATEGORIES:Serbest Meslek
ATTACH;FMTTYPE=image/jpeg:https://korunanmuhasebe.com/wp-content/uploads/2018/10/dbi.jpg
ORGANIZER;CN="Korunan Muhasebe":MAILTO:info@korunanmuhasebe.com
END:VEVENT
END:VCALENDAR