BEGIN:VCALENDAR
VERSION:2.0
PRODID:-//Korunan Muhasebe ve Müşavirlik Bürosu - ECPv6.15.13//NONSGML v1.0//EN
CALSCALE:GREGORIAN
METHOD:PUBLISH
X-ORIGINAL-URL:https://korunanmuhasebe.com
X-WR-CALDESC:Korunan Muhasebe ve Müşavirlik Bürosu için etkinlikler
REFRESH-INTERVAL;VALUE=DURATION:PT1H
X-Robots-Tag:noindex
X-PUBLISHED-TTL:PT1H
BEGIN:VTIMEZONE
TZID:Europe/Istanbul
BEGIN:STANDARD
TZOFFSETFROM:+0300
TZOFFSETTO:+0300
TZNAME:+03
DTSTART:20180101T000000
END:STANDARD
END:VTIMEZONE
BEGIN:VEVENT
DTSTART;TZID=Europe/Istanbul:20191210T140000
DTEND;TZID=Europe/Istanbul:20191210T170000
DTSTAMP:20260424T070949
CREATED:20191128T193254Z
LAST-MODIFIED:20191128T202533Z
UID:16944-1575986400-1575997200@korunanmuhasebe.com
SUMMARY:Ön Muhasebe Temel Eğitim - 10 Aralık 2019
DESCRIPTION:Ön Muhasebe Temel Eğitim – 10 Aralık 2019\n  \nBu eğitim\, muhasebe konusunda hiç bilgisi olmayan veya çok az bilgisi olan işletme yönetici ve çalışanlarına\, işletme ön muhasebesi ile ilgili temel bilgileri aktarmayı ve mali tabloları oluşturan unsurları tanıtmayı amaçlamaktadır. \n  \n\nÖn Muhasebeye Giriş:\n\nDefter\, Belge ve E-Uygulamalar\nKasa Hesap Takibi\nMüşteri (Cari) Hesabı Takibi\nFatura/İrsaliye İşlemleri\nStok Giriş ve Çıkış Takibi\nMüşteri Çek/Senetleri Takibi\nİşletme Çek/Senetleri Takibi\nBanka Hesap Takibi\n\n\n\n  \n  \n  \nKayıt ve Ödeme için : https://korunan.bookafy.com/class/on-muhasebe-temel \n  \n 
URL:https://korunanmuhasebe.com/etkinlik/on-muhasebe-temel-egitim-10-aralik-2019/
LOCATION:Korunan Muhasebe & Müşavirlik Bürosu\, Çemberlitaş\, Binbirdirek Mh. Dostluk Yurdu Sk. No:1 Yeşil Ap. Kat:2 D:6\, İstanbul\, Fatih\, 34122\, Türkiye
CATEGORIES:Bilanço,İşletme,Serbest Meslek
ATTACH;FMTTYPE=image/jpeg:https://korunanmuhasebe.com/wp-content/uploads/2015/12/accountant.jpg
ORGANIZER;CN="Korunan Akademi":MAILTO:akademi@korunan.com.tr
END:VEVENT
END:VCALENDAR