BEGIN:VCALENDAR
VERSION:2.0
PRODID:-//Korunan Muhasebe ve Müşavirlik Bürosu - ECPv6.15.13//NONSGML v1.0//EN
CALSCALE:GREGORIAN
METHOD:PUBLISH
X-ORIGINAL-URL:https://korunanmuhasebe.com
X-WR-CALDESC:Korunan Muhasebe ve Müşavirlik Bürosu için etkinlikler
REFRESH-INTERVAL;VALUE=DURATION:PT1H
X-Robots-Tag:noindex
X-PUBLISHED-TTL:PT1H
BEGIN:VTIMEZONE
TZID:Europe/Istanbul
BEGIN:STANDARD
TZOFFSETFROM:+0300
TZOFFSETTO:+0300
TZNAME:+03
DTSTART:20190101T000000
END:STANDARD
END:VTIMEZONE
BEGIN:VEVENT
DTSTART;TZID=Europe/Istanbul:20200806T143000
DTEND;TZID=Europe/Istanbul:20200806T173000
DTSTAMP:20260423T183015
CREATED:20200728T161446Z
LAST-MODIFIED:20200728T161446Z
UID:17693-1596724200-1596735000@korunanmuhasebe.com
SUMMARY:Gekap Bilgilendirme
DESCRIPTION:GERİ KAZANIM KATILIM PAYINA İLİŞKİN YÖNETMELİK (31.12.2019) \n  \n“GERİ KAZANIM KATILIM PAYINA İLİŞKİN YÖNETMELİĞİN UYGULANMASINA DAİR USUL VE ESASLAR” (7.2.2020) \n  \n“GERİ KAZANIM KATILIM PAYINA İLİŞKİN YÖNETMELİĞİN UYGULANMASINA DAİR USUL VE ESASLARDA DEĞİŞİKLİK YAPILMASINA DAİR USUL VE ESASLAR” tam metnine buradan ulaşabilirsiniz. (3.7.2020) \n  \n“GERİ KAZANIM KATILIM PAYINA İLİŞKİN YÖNETMELİĞİN UYGULANMASINA DAİR USUL VE ESASLARDA DEĞİŞİKLİK YAPILMASINA DAİR USUL VE ESASLARDA DEĞİŞİKLİK YAPILMASINA DAİR USUL VE ESASLAR”IN GÜNCELLENMESİ DUYURUSU (23.7.2020) \n  \nELEKTRİKLİ VE ELEKTRONİK EŞYA KATEGORİLERİ AYRINTILI LİSTESİ (ATIK ELEKTRİKLİ VE ELEKTRONİK EŞYALARIN KONTROLÜ YÖNETMELİĞİ – Ek 1/B) \n  \n2020 YILI GEKAP LİSTESİ VE TUTARLARI \n  \nGEKAP İLİŞKİN YÖNETMELİĞİN UYGULANMASINA DAİR USUL VE ESASLARDA DEĞİŞİKLİK YAPILDI \n \nGekap Uygulama Rehberi \n \n 
URL:https://korunanmuhasebe.com/etkinlik/gekap-bilgilendirme/
LOCATION:Korunan Muhasebe & Müşavirlik Bürosu\, Çemberlitaş\, Binbirdirek Mh. Dostluk Yurdu Sk. No:1 Yeşil Ap. Kat:2 D:6\, İstanbul\, Fatih\, 34122\, Türkiye
CATEGORIES:Bilanço,İşletme,Serbest Meslek
ATTACH;FMTTYPE=image/png:https://korunanmuhasebe.com/wp-content/uploads/2015/12/guncelleme.png
ORGANIZER;CN="Korunan Muhasebe":MAILTO:info@korunanmuhasebe.com
END:VEVENT
END:VCALENDAR