BEGIN:VCALENDAR
VERSION:2.0
PRODID:-//Korunan Muhasebe ve Müşavirlik Bürosu - ECPv6.15.13//NONSGML v1.0//EN
CALSCALE:GREGORIAN
METHOD:PUBLISH
X-WR-CALNAME:Korunan Muhasebe ve Müşavirlik Bürosu
X-ORIGINAL-URL:https://korunanmuhasebe.com
X-WR-CALDESC:Korunan Muhasebe ve Müşavirlik Bürosu için etkinlikler
REFRESH-INTERVAL;VALUE=DURATION:PT1H
X-Robots-Tag:noindex
X-PUBLISHED-TTL:PT1H
BEGIN:VTIMEZONE
TZID:Europe/Istanbul
BEGIN:STANDARD
TZOFFSETFROM:+0300
TZOFFSETTO:+0300
TZNAME:+03
DTSTART:20240101T000000
END:STANDARD
END:VTIMEZONE
BEGIN:VEVENT
DTSTART;VALUE=DATE:20250929
DTEND;VALUE=DATE:20250930
DTSTAMP:20260421T140526
CREATED:20250902T201757Z
LAST-MODIFIED:20250902T201757Z
UID:18659-1759104000-1759190399@korunanmuhasebe.com
SUMMARY:2025/8 KDV Beyan ve Ödemesi
DESCRIPTION:
URL:https://korunanmuhasebe.com/etkinlik/2025-8-kdv-beyan-ve-odemesi/
CATEGORIES:VERGİ
END:VEVENT
END:VCALENDAR